Workbook

Sheet はじめに
A1: 【申請書】iStorage Vシリーズ ライセンス再発行/容量削減機能（dedupe and compression）のライセンス発行
U2: 2025.02 第2版 作成元：日本電気株式会社
B3: ■目的
C4: ■iStorage Vシリーズ ソフトウェア製品のライセンスキー申請
C5: iStorage Vシリーズ ソフトウェア製品をご利用のお客様へ、ライセンスキーの再発行および
C6: 容量削減機能（dedupe and compression）のライセンスキー発行の申請方法について、
C7: 以下のとおりご案内いたします。
D8: 〇ライセンスキー再発行の申請
D9: 〇容量削減機能（dedupe and compression）ライセンスキー発行の申請
C11: 〇ライセンスキー再発行の申請
C12: 本申請書は、iStorage Vシリーズ向けソフトウェア製品をご利用のお客様において、以下の理由などにより
C13: 再適用が必要となった「標準搭載ソフトウェア」または「オプションPP」のライセンスキーについて、
C14: iStorage Vシリーズ ソフトウェア製品担当部門より再発行するために利用される。
C16: ・ライセンスキーの再発行が必要となるケース
D17: 下記、(1)～(3)のいずれかに該当する場合
E18: (1)iStorage Vシリーズ ディスクアレイ装置本体の初期化を行った場合
E19: (2)HW障害などにより、ご利用のiStorage Vシリーズ ディスクアレイ装置本体を交換した場合
E20: (3)その他、ハードウェア保守員（NECフィールディング）から再適用を指示された場合
C22: 〇容量削減機能（dedupe and compression）ライセンスキーの申請
C23: iStorage V110/V310 ソフトウェア製品をご利用のお客様において、
C24: 容量削減機能（dedupe and compression）をご利用になる場合は
C25: 容量削減機能（dedupe and compression）ライセンスキーの申請が必要となります。
C27: ・ライセンスキーの申請が必要となるケース
D28: 下記、(1)～(3)のすべてに該当する場合
E29: (1)次に示すどちらかのディスクアレイ装置をご利用の場合
F30: 型番名：NF5522-SR01 製品名：iStorage V110ディスクアレイ（2.5型）
F31: 型番名：NF5532-SR01 製品名：iStorage V310ディスクアレイ（2.5型）
E32: (2)次に示すどちらかのDKCMAIN ファームウェアバージョンをご利用の場合
F33: A3-01-01-40
F34: A3-01-02-40
G35: ※容量削減機能（dedupe and compression）をご利用になる場合はライセンスキー適用の
G36: 前にDKCMAINファームウェアをA3-03-XX-XX以降へアップデートする必要があります。
E37: (3)容量削減機能（dedupe and compression）をご利用になる場合
B41: ■申請方法
C42: 1. 本申請書の「申請」シートに必要事項を記入してください。
C43: 2. NECサポートポータルの以下よりお問合せいただき、必要事項を記入した申請書を添付してください。
D44: ＜お問合せ先＞
E45: 契約、サービスに関するお問い合わせ
E46: https://www.support.nec.co.jp/PSSupportAsk.aspx
D48: ＜お問合せ内容＞ | M48: ※下記の「青字」の箇所はコピーが可能です。
...

Sheet 申請
A1: 【基本情報】 | H1: ※「黄色」のセルは入力必須項目となります。
B3: 申請日
B4: 申請者情報
C5: 会社名／所属団体名
C6: 部署名
C7: 氏名
C8: 連絡先（電話番号）
B9: 申請理由
B10: 再発行希望日
B11: 送付先（メールアドレス）
B12: サポートID
A14: 【製品情報】 | H14: ※以降にライセンスの再発行が必要なすべての製品について記載ください。
B16: 項番 | C16: 1
C17: 装置製番 ※数字8桁
C18: 装置製番（交換後）
C19: 型番
C20: 製品名 | I20: =IF(ISBLANK($I19),"（型番を選択すると自動入力されます）",VLOOKUP($I19,データ!$A$2:$B$502,2,FALSE)) -> （型番を選択すると自動入力されます）
C21: 受注番号
B23: 項番 | C23: =C16+1 -> 2 | E23: （選択した項番に記入済みの装置製番/受注番号を自動反映します。［項番： | U23: ］）
C24: =$C$17 -> 装置製番 ※数字8桁 | I24: =IF(ISNUMBER($T23),INDIRECT("I"&(17+($T23-1)*7)),"")
C25: =$C$18 -> 装置製番（交換後） | I25: =IF(ISNUMBER($T23),INDIRECT("I"&(18+($T23-1)*7)),"")
C26: =$C$19 -> 型番
C27: =$C$20 -> 製品名 | I27: =IF(ISBLANK($I26),"（型番を選択すると自動入力されます）",VLOOKUP($I26,データ!$A$2:$B$502,2,FALSE)) -> （型番を選択すると自動入力されます）
C28: =$C$21 -> 受注番号 | I28: =IF(ISNUMBER($T23),INDIRECT("I"&(21+($T23-1)*7)),"")
B30: 項番 | C30: =C23+1 -> 3 | E30: =$E$23 -> （選択した項番に記入済みの装置製番/受注番号を自動反映します。［項番： | U30: ］）
C31: =$C$17 -> 装置製番 ※数字8桁 | I31: =IF(ISNUMBER($T30),INDIRECT("I"&(17+($T30-1)*7)),"")
C32: =$C$18 -> 装置製番（交換後） | I32: =IF(ISNUMBER($T30),INDIRECT("I"&(18+($T30-1)*7)),"")
C33: =$C$19 -> 型番
C34: =$C$20 -> 製品名 | I34: =IF(ISBLANK($I33),"（型番を選択すると自動入力されます）",VLOOKUP($I33,データ!$A$2:$B$502,2,FALSE)) -> （型番を選択すると自動入力されます）
C35: =$C$21 -> 受注番号 | I35: =IF(ISNUMBER($T30),INDIRECT("I"&(21+($T30-1)*7)),"")
B37: 項番 | C37: =C30+1 -> 4 | E37: =$E$23 -> （選択した項番に記入済みの装置製番/受注番号を自動反映します。［項番： | U37: ］）
C38: =$C$17 -> 装置製番 ※数字8桁 | I38: =IF(ISNUMBER($T37),INDIRECT("I"&(17+($T37-1)*7)),"")
C39: =$C$18 -> 装置製番（交換後） | I39: =IF(ISNUMBER($T37),INDIRECT("I"&(18+($T37-1)*7)),"")
C40: =$C$19 -> 型番
C41: =$C$20 -> 製品名 | I41: =IF(ISBLANK($I40),"（型番を選択すると自動入力されます）",VLOOKUP($I40,データ!$A$2:$B$502,2,FALSE)) -> （型番を選択すると自動入力されます）
C42: =$C$21 -> 受注番号 | I42: =IF(ISNUMBER($T37),INDIRECT("I"&(21+($T37-1)*7)),"")
B44: 項番 | C44: =C37+1 -> 5 | E44: =$E$23 -> （選択した項番に記入済みの装置製番/受注番号を自動反映します。［項番： | U44: ］）
C45: =$C$17 -> 装置製番 ※数字8桁 | I45: =IF(ISNUMBER($T44),INDIRECT("I"&(17+($T44-1)*7)),"")
C46: =$C$18 -> 装置製番（交換後） | I46: =IF(ISNUMBER($T44),INDIRECT("I"&(18+($T44-1)*7)),"")
C47: =$C$19 -> 型番
...

Sheet 入力例（装置本体の初期化時）
A1: 【基本情報】 | H1: ※「黄色」のセルは入力必須項目となります。
B3: 申請日 | H3: 44454
B4: 申請者情報
C5: 会社名／所属団体名 | H5: 日本電気株式会社
C6: 部署名 | H6: XXXX事業部
C7: 氏名 | H7: 日電 太朗
C8: 連絡先（電話番号） | H8: xxx-xxxx-xxxx
B9: 申請理由 | H9: ディスクアレイ装置本体の初期化により未解除状態となったライセンスの再適用のため
B10: 再発行希望日 | H10: 44469
B11: 送付先（メールアドレス） | H11: xxxx@yyyy.com
B12: サポートID | H12: 3xxxxxxxx
A14: 【製品情報】 | H14: ※以降にライセンスの再発行が必要なすべての製品について記載ください。
B16: 項番 | C16: 1
C17: 装置製番 ※数字8桁 | I17: 01234567
C18: 装置製番（交換後）
C19: 型番 | I19: NF5531-SR01
C20: 製品名 | I20: =IF(ISBLANK($I19),"（型番を選択すると自動入力されます）",VLOOKUP($I19,データ!$A$2:$B$37,2,FALSE)) -> iStorage V300ディスクアレイ（2.5型） 非暗号化モデル
C21: 受注番号 | I21: 123-45678
B23: 項番 | C23: =C16+1 -> 2 | E23: （選択した項番に記入済みの装置製番/受注番号を自動反映します。［項番： | U23: ］）
C24: =$C$17 -> 装置製番 ※数字8桁 | I24: 00123456
C25: =$C$18 -> 装置製番（交換後） | I25: =IF(ISNUMBER($T23),INDIRECT("I"&(18+($T23-1)*7)),"")
C26: =$C$19 -> 型番 | I26: NF5521-SR01
C27: =$C$20 -> 製品名 | I27: =IF(ISBLANK($I26),"（型番を選択すると自動入力されます）",VLOOKUP($I26,データ!$A$2:$B$37,2,FALSE)) -> iStorage V100ディスクアレイ（2.5型）非 暗号化モデル
C28: =$C$21 -> 受注番号 | I28: 123-12345
B30: 項番 | C30: =C23+1 -> 3 | E30: =$E$23 -> （選択した項番に記入済みの装置製番/受注番号を自動反映します。［項番： | U30: ］）
C31: =$C$17 -> 装置製番 ※数字8桁 | I31: =IF(ISNUMBER($T30),INDIRECT("I"&(17+($T30-1)*7)),"")
C32: =$C$18 -> 装置製番（交換後） | I32: =IF(ISNUMBER($T30),INDIRECT("I"&(18+($T30-1)*7)),"")
C33: =$C$19 -> 型番
C34: =$C$20 -> 製品名 | I34: =IF(ISBLANK($I33),"（型番を選択すると自動入力されます）",VLOOKUP($I33,データ!$A$2:$B$37,2,FALSE)) -> （型番を選択すると自動入力されます）
C35: =$C$21 -> 受注番号 | I35: =IF(ISNUMBER($T30),INDIRECT("I"&(21+($T30-1)*7)),"")
B37: 項番 | C37: =C30+1 -> 4 | E37: =$E$23 -> （選択した項番に記入済みの装置製番/受注番号を自動反映します。［項番： | U37: ］）
C38: =$C$17 -> 装置製番 ※数字8桁 | I38: =IF(ISNUMBER($T37),INDIRECT("I"&(17+($T37-1)*7)),"")
C39: =$C$18 -> 装置製番（交換後） | I39: =IF(ISNUMBER($T37),INDIRECT("I"&(18+($T37-1)*7)),"")
C40: =$C$19 -> 型番
C41: =$C$20 -> 製品名 | I41: =IF(ISBLANK($I40),"（型番を選択すると自動入力されます）",VLOOKUP($I40,データ!$A$2:$B$37,2,FALSE)) -> （型番を選択すると自動入力されます）
C42: =$C$21 -> 受注番号 | I42: =IF(ISNUMBER($T37),INDIRECT("I"&(21+($T37-1)*7)),"")
B44: 項番 | C44: =C37+1 -> 5 | E44: =$E$23 -> （選択した項番に記入済みの装置製番/受注番号を自動反映します。［項番： | U44: ］）
C45: =$C$17 -> 装置製番 ※数字8桁 | I45: =IF(ISNUMBER($T44),INDIRECT("I"&(17+($T44-1)*7)),"")
C46: =$C$18 -> 装置製番（交換後） | I46: =IF(ISNUMBER($T44),INDIRECT("I"&(18+($T44-1)*7)),"")
C47: =$C$19 -> 型番
...

Sheet 入力例（装置本体の交換時）
A1: 【基本情報】 | H1: ※「黄色」のセルは入力必須項目となります。
B3: 申請日 | H3: 44454
B4: 申請者情報
C5: 会社名／所属団体名 | H5: 日本電気株式会社
C6: 部署名 | H6: XXXX事業部
C7: 氏名 | H7: 日電 太朗
C8: 連絡先（電話番号） | H8: xxx-xxxx-xxxx
B9: 申請理由 | H9: ディスクアレイ装置本体の交換による装置シリアル番号変更に伴うライセンス再発行のため
B10: 再発行希望日 | H10: 44469
B11: 送付先（メールアドレス） | H11: xxxx@yyyy.com
B12: サポートID | H12: 3xxxxxxxx
A14: 【製品情報】 | H14: ※以降にライセンスの再発行が必要なすべての製品について記載ください。
B16: 項番 | C16: 1
C17: 装置製番 ※数字8桁 | I17: 01234567
C18: 装置製番（交換後） | I18: 12345678
C19: 型番 | I19: UFSH01E10000-I
C20: 製品名 | I20: =IF(ISBLANK($I19),"（型番を選択すると自動入力されます）",VLOOKUP($I19,データ!$A$2:$B$37,2,FALSE)) -> iStorage Local Replication - V100
C21: 受注番号 | I21: 123-45678
B23: 項番 | C23: =C16+1 -> 2 | E23: （選択した項番に記入済みの装置製番/受注番号を自動反映します。［項番： | T23: 1 | U23: ］）
C24: =$C$17 -> 装置製番 ※数字8桁 | I24: =IF(ISNUMBER($T23),INDIRECT("I"&(17+($T23-1)*7)),"") -> 01234567
C25: =$C$18 -> 装置製番（交換後） | I25: =IF(ISNUMBER($T23),INDIRECT("I"&(18+($T23-1)*7)),"") -> 12345678
C26: =$C$19 -> 型番 | I26: UFSH02E10000-I
C27: =$C$20 -> 製品名 | I27: =IF(ISBLANK($I26),"（型番を選択すると自動入力されます）",VLOOKUP($I26,データ!$A$2:$B$37,2,FALSE)) -> iStorage Remote Replication - V100
C28: =$C$21 -> 受注番号 | I28: =IF(ISNUMBER($T23),INDIRECT("I"&(21+($T23-1)*7)),"") -> 123-45678
B30: 項番 | C30: =C23+1 -> 3 | E30: =$E$23 -> （選択した項番に記入済みの装置製番/受注番号を自動反映します。［項番： | T30: 1 | U30: ］）
C31: =$C$17 -> 装置製番 ※数字8桁 | I31: =IF(ISNUMBER($T30),INDIRECT("I"&(17+($T30-1)*7)),"") -> 01234567
C32: =$C$18 -> 装置製番（交換後） | I32: =IF(ISNUMBER($T30),INDIRECT("I"&(18+($T30-1)*7)),"") -> 12345678
C33: =$C$19 -> 型番 | I33: UFSH04E10000-I
C34: =$C$20 -> 製品名 | I34: =IF(ISBLANK($I33),"（型番を選択すると自動入力されます）",VLOOKUP($I33,データ!$A$2:$B$37,2,FALSE)) -> iStorage Active Mirror - V100
C35: =$C$21 -> 受注番号 | I35: =IF(ISNUMBER($T30),INDIRECT("I"&(21+($T30-1)*7)),"") -> 123-45678
B37: 項番 | C37: =C30+1 -> 4 | E37: =$E$23 -> （選択した項番に記入済みの装置製番/受注番号を自動反映します。［項番： | U37: ］）
C38: =$C$17 -> 装置製番 ※数字8桁 | I38: 00123456
C39: =$C$18 -> 装置製番（交換後） | I39: 07654321
C40: =$C$19 -> 型番 | I40: UFSH01H10000-I
C41: =$C$20 -> 製品名 | I41: =IF(ISBLANK($I40),"（型番を選択すると自動入力されます）",VLOOKUP($I40,データ!$A$2:$B$37,2,FALSE)) -> iStorage Local Replication - V100
C42: =$C$21 -> 受注番号 | I42: 123-12345
B44: 項番 | C44: =C37+1 -> 5 | E44: =$E$23 -> （選択した項番に記入済みの装置製番/受注番号を自動反映します。［項番： | U44: ］）
C45: =$C$17 -> 装置製番 ※数字8桁 | I45: =IF(ISNUMBER($T44),INDIRECT("I"&(17+($T44-1)*7)),"")
C46: =$C$18 -> 装置製番（交換後） | I46: =IF(ISNUMBER($T44),INDIRECT("I"&(18+($T44-1)*7)),"")
C47: =$C$19 -> 型番
...

Sheet 入力例（容量削減機能ライセンスキー）
A1: 【基本情報】 | H1: ※「黄色」のセルは入力必須項目となります。
B3: 申請日 | H3: 45681
B4: 申請者情報
C5: 会社名／所属団体名 | H5: 日本電気株式会社
C6: 部署名 | H6: XXXX事業部
C7: 氏名 | H7: 日電 太朗
C8: 連絡先（電話番号） | H8: xxx-xxxx-xxxx
B9: 申請理由 | H9: iStorage V110/V310向 ソフトウェア製品の容量削減機能（dedupe and compression）ライセンスキー発行のため
B10: 再発行希望日 | H10: 45712
B11: 送付先（メールアドレス） | H11: xxxx@yyyy.com
B12: サポートID | H12: 3xxxxxxxx
A14: 【製品情報】 | H14: ※以降にライセンスの再発行が必要なすべての製品について記載ください。
B16: 項番 | C16: 1
C17: 装置製番 ※数字8桁 | I17: 01234567
C18: 装置製番（交換後）
C19: 型番 | I19: NF5532-SR01
C20: 製品名 | I20: =IF(ISBLANK($I19),"（型番を選択すると自動入力されます）",VLOOKUP($I19,データ!$A$2:$B$37,2,FALSE)) -> iStorage V310ディスクアレイ（2.5型）
C21: 受注番号 | I21: 123-45678
B23: 項番 | C23: =C16+1 -> 2 | E23: （選択した項番に記入済みの装置製番/受注番号を自動反映します。［項番： | U23: ］）
C24: =$C$17 -> 装置製番 ※数字8桁
C25: =$C$18 -> 装置製番（交換後）
C26: =$C$19 -> 型番
C27: =$C$20 -> 製品名
C28: =$C$21 -> 受注番号
B30: 項番 | C30: =C23+1 -> 3 | E30: =$E$23 -> （選択した項番に記入済みの装置製番/受注番号を自動反映します。［項番： | U30: ］）
C31: =$C$17 -> 装置製番 ※数字8桁 | I31: =IF(ISNUMBER($T30),INDIRECT("I"&(17+($T30-1)*7)),"")
C32: =$C$18 -> 装置製番（交換後） | I32: =IF(ISNUMBER($T30),INDIRECT("I"&(18+($T30-1)*7)),"")
C33: =$C$19 -> 型番
C34: =$C$20 -> 製品名
C35: =$C$21 -> 受注番号 | I35: =IF(ISNUMBER($T30),INDIRECT("I"&(21+($T30-1)*7)),"")
B37: 項番 | C37: =C30+1 -> 4 | E37: =$E$23 -> （選択した項番に記入済みの装置製番/受注番号を自動反映します。［項番： | U37: ］）
C38: =$C$17 -> 装置製番 ※数字8桁
C39: =$C$18 -> 装置製番（交換後）
C40: =$C$19 -> 型番
C41: =$C$20 -> 製品名
C42: =$C$21 -> 受注番号
B44: 項番 | C44: =C37+1 -> 5 | E44: =$E$23 -> （選択した項番に記入済みの装置製番/受注番号を自動反映します。［項番： | U44: ］）
C45: =$C$17 -> 装置製番 ※数字8桁 | I45: =IF(ISNUMBER($T44),INDIRECT("I"&(17+($T44-1)*7)),"")
C46: =$C$18 -> 装置製番（交換後） | I46: =IF(ISNUMBER($T44),INDIRECT("I"&(18+($T44-1)*7)),"")
C47: =$C$19 -> 型番
...

Sheet データ
A1: 型番名 | B1: 製品名
A3: <-- ディスクアレイ装置の場合は、以下の型番から選択してください ----
A4: NF5521-SR01 | B4: iStorage V100ディスクアレイ（2.5型）非 暗号化モデル
A5: NF5521-SR01L | B5: iStorage V100ディスクアレイ（2.5型）暗号化モデル
A6: NF5531-SR01 | B6: iStorage V300ディスクアレイ（2.5型） 非暗号化モデル
A7: NF5531-SR01L | B7: iStorage V300ディスクアレイ（2.5型）暗号化モデル
A8: NF5511-SR00 | B8: iStorage V10eディスクアレイ（3.5型） 非暗号化モデル
A9: NF5511-SR01 | B9: iStorage V10eディスクアレイ（2.5型） 非暗号化モデル
A10: NF5511-SR00L | B10: iStorage V10eディスクアレイ（3.5型） 暗号化モデル
A11: NF5511-SR01L | B11: iStorage V10eディスクアレイ（2.5型） 暗号化モデル
A12: NF5522-SR01 | B12: iStorage V110ディスクアレイ（2.5型）
A13: NF5532-SR01 | B13: iStorage V310ディスクアレイ（2.5型）
A14: NF5532-SR01F | B14: iStorage V310Fディスクアレイ（2.5型）
A15: <-- ディスクアレイ装置本体を交換した場合は、以下の型番から選択してください ----
A16: UFSH01N10000-I | B16: iStorage Local Replication - V100
A17: UFSH01H10000-I | B17: iStorage Local Replication - V100
A18: UFSH01E10000-I | B18: iStorage Local Replication - V100
A19: UFSH02N10000-I | B19: iStorage Remote Replication - V100
A20: UFSH02H10000-I | B20: iStorage Remote Replication - V100
A21: UFSH02E10000-I | B21: iStorage Remote Replication - V100
A22: UFSH04N10000-I | B22: iStorage Active Mirror - V100
A23: UFSH04H10000-I | B23: iStorage Active Mirror - V100
A24: UFSH04E10000-I | B24: iStorage Active Mirror - V100
A25: UFSH01N30000-I | B25: iStorage Local Replication - V300
A26: UFSH01H30000-I | B26: iStorage Local Replication - V300
A27: UFSH01E30000-I | B27: iStorage Local Replication - V300
... A70: UFSH04N3100T-I | B70: iStorage Active Mirror (180-days Limited License) - V310/V310F
