Workbook

Sheet 表紙
B27: お客様名 | D27: <お客様名>
B29: 版数 | D29: <版数>
A42: 日本電気株式会社
F53: 文書番号 | G53: NHS-E-181-010

Sheet 事前確認シート_A
A1: NEC Hyper Converged System 構築ツール | AK1: 記入者 | AS1: 版数
B2: ="ネットワーク・vSAN情報設定 事前確認シート(Aパターン)"&CHAR(10)&表紙!D27&"様" -> ネットワーク・vSAN情報設定 事前確認シート(Aパターン) <お客様名>様 | AK2: <ご記入ください> ※任意です | AS2: =表紙!D29 -> <版数>
B4: NEC Hyper Converged Systemのネットワーク(Ａパターン)のシステム概要図は、以下の通りです。
C6: ＜システム概要図内の用語＞
D7: ・構築ツールマシン | K7: NEC Hyper Converged System 構築ツールを動作させるマシンです。
D8: ・クラスタノード | K8: vSANクラスタを構成するExpressサーバ群です。
D9: ・管理ノード | K9: クラスタノードを管理する、クラスタノードとは別のExpressサーバです。vCSA(vCenter Server Appliance)や管理VMを動作させます。
D10: ・管理用ネットワーク | K10: 管理ノードがクラスタノードを管理するための通信(VMKernel(管理))のやり取りを行うネットワークです。
D11: ・vSAN用ネットワーク | K11: クラスタノード間でvSANデータ通信(VMKernel(vSAN))のやり取りを行うネットワークです。通信速度は10Gbpsが必須です。
D12: ・vMotion用ネットワーク | K12: クラスタノード間でvMotionデータ通信（VMKernel(vMotion))のやり取りを行うネットワークです。
D13: ・BMC用ネットワーク | K13: BMC LANを利用して、ノードのメンテナンスするために利用するネットワークです。
D14: ・業務用ネットワーク | K14: クラスタノードで動作させる業務AP(業務VM)が通信を行うためのネットワークです。
C17: 【クラスタノード3台 + 管理ノード1台構成例】 Ａパターン | AP17: ＜Ａパターンのネットワーク概要＞
AP18: ・管理用とBMC用に別のネットワークを利用します。
AP19: ・構築ツールマシンは、管理用とBMC用の
AP20: 両方のネットワークにアクセス可能な設定が必要です。
AP21: ・管理VMは、管理用とBMC用ネットワークに接続されます。
AP22: ・各ネットワークにチーミングを設定します。
AP23: ・チーミングは冗長化を目的とし、
AP24: active-standby構成で設定します。
AP25: ・vSAN用ネットワークのactiveポートは、
AP26: 通信量が多いため、単独で利用します。
C44: ※vCSA(vCenter Server Appliance)、管理VMは、管理ノードに配置されます。
C45: ※業務用ネットワークの設定は、構築ツールの対象外です。

Sheet ヒアリングシート_A
A1: NEC Hyper Converged System 構築サービス | AK1: 記入者 | AS1: 版数
B2: ="ネットワーク・vSAN情報設定 ヒアリングシート(推奨設定A)"&CHAR(10)&表紙!D27&"様" -> ネットワーク・vSAN情報設定 ヒアリングシート(推奨設定A) <お客様名>様 | AK2: <ご記入ください> ※任意です | AS2: =表紙!D29 -> <版数>
B4: 薄い黄色で色抜きされた部分に、設定情報をご記入ください。
A6: 【事前確認項目の転記】
B7: ゲートウェイ・DNSサーバ・NTPサーバ
A8: # | B8: 項目名 | P8: ご記入項目 | AY8: 説明
A9: 1 | B9: 管理用ネットワークのデフォルトゲートウェイのIPアドレス | AY9: 管理用ネットワークのデフォルトゲートウェイのIPアドレスを記入してください。
A11: 【管理/vSAN/vMotion用ネットワーク設定】
B12: 管理ノード・クラスタノード
A13: # | B13: 項目名 | P13: 記入項目 | AY13: 説明
A14: 2 | B14: ESXi (VMKernel: 管理) | G14: ホスト名 FQDN (IPアドレスに対応) | P14: 管理ノード | W14: クラスターノード1台目 | AD14: クラスターノード2台目 | AK14: クラスターノード3台目 | AR14: クラスターノード4台目 | AY14: 管理ノード、各クラスタノードの管理用ネットワークにおけるホスト名(FQDN)を記入してください。 次のIPアドレスに対応します。
P16: クラスターノード5台目 | W16: クラスターノード6台目 | AD16: クラスターノード7台目 | AK16: クラスターノード8台目 | AR16: クラスターノード9台目
A18: 3 | G18: IPアドレス | P18: 管理ノード | W18: クラスターノード1台目 | AD18: クラスターノード2台目 | AK18: クラスターノード3台目 | AR18: クラスターノード4台目 | AY18: 管理ノード、各クラスタノードの管理用ネットワークにおけるIPアドレスを記入してください。
P20: クラスターノード5台目 | W20: クラスターノード6台目 | AD20: クラスターノード7台目 | AK20: クラスターノード8台目 | AR20: クラスターノード9台目
A22: 4 | G22: サブネットマスク | AY22: 管理用ネットワークのサブネットマスクを記入してください。 例：「255.255.255.0」
A24: 5 | B24: ESXi (VMKernel: vSAN) | G24: IPアドレス | P24: 管理ノード | W24: クラスターノード1台目 | AD24: クラスターノード2台目 | AK24: クラスターノード3台目 | AR24: クラスターノード4台目 | AY24: 各クラスタノードのvSAN用ネットワークにおけるIPアドレスを記入してください。
P26: クラスターノード5台目 | W26: クラスターノード6台目 | AD26: クラスターノード7台目 | AK26: クラスターノード8台目 | AR26: クラスターノード9台目
A28: 6 | G28: ポートグループ名 | AY28: 各クラスタノードのvSAN用ネットワークのポートグル―プ名を記入してください。 例：「vSAN」
A29: 7 | G29: サブネットマスク | AY29: vSANネットワークのサブネットマスクを記入してください。 例：「255.255.255.0」
A30: 8 | G30: VLAN ID | AY30: vSANネットワークのVLAN IDを記入してください(タグVLANを使用する場合)。 例：「11」
A32: 9 | B32: ESXi (VMK: vMotion) | G32: IPアドレス | P32: 管理ノード | W32: クラスターノード1台目 | AD32: クラスターノード2台目 | AK32: クラスターノード3台目 | AR32: クラスターノード4台目 | AY32: 各クラスタノードのvMotion用ネットワークにおけるIPアドレスを記入してください。
P34: クラスターノード5台目 | W34: クラスターノード6台目 | AD34: クラスターノード7台目 | AK34: クラスターノード8台目 | AR34: クラスターノード9台目
A36: 10 | G36: ポートグループ名 | AY36: 各クラスタノードのvMotion用ネットワークのポートグル―プ名を記入してください。 例：「vMotion」
A37: 11 | G37: サブネットマスク | AY37: vMotionネットワークのサブネットマスクを記入してください。 例：「255.255.255.0」
A38: 12 | G38: VLAN ID | AY38: vMotionのVLAN IDを記入してください(タグVLANを使用する場合)。 例：「12」
A40: 13 | B40: ="ポートグループ"&CHAR(10)&"「"&A!C57&"」"&CHAR(10)&"「"&P28&"」"&"「"&P36&"」"&CHAR(10)&"に割り当てるLANポート" -> ポートグループ 「Management Network」 「」「」 に割り当てるLANポート | P40: 管理ノード | W40: クラスターノード1台目 | AD40: クラスターノード2台目 | AK40: クラスターノード3台目 | AR40: クラスターノード4台目 | AY40: 管理ノード、各クラスタノードの管理/vSAN/vMotion用ネットワークに割り当てるNICポートを選択してください。 クラスタノードのNICポートは、10G NICポートを選択する必要があります。 NICポートの位置とvmnicの関係は、シート「NICポート対応表」を参照してください。
P42: クラスターノード5台目 | W42: クラスターノード6台目 | AD42: クラスターノード7台目 | AK42: クラスターノード8台目 | AR42: クラスターノード9台目
B46: 10Gスイッチ
A47: # | B47: 項目名 | P47: 記入項目 | AY47: 説明
A48: 14 | B48: 10Gスイッチ | G48: IPアドレス | AY48: vSphere HAの隔離IPアドレスとして使用する10GスイッチのIPアドレスを記入してください。 vSAN用ネットワークのIPアドレスから通信可能なIPアドレスを記入する必要があります。 vSAN用ネットワークのIPアドレスを記入することを推奨します。
A50: 【BMC用ネットワーク設定】
B51: 管理ノード・クラスタノード
A52: # | B52: 項目名 | P52: 記入項目 | AY52: 説明
A53: 15 | B53: BMC | G53: IPアドレス (お客様業務ネットワークと 同セグメント必須) | P53: 管理ノード | W53: クラスターノード1台目 | AD53: クラスターノード2台目 | AK53: クラスターノード3台目 | AR53: クラスターノード4台目 | AY53: 管理ノード、各クラスタノードのBMCのBMC用ネットワークにおけるIPアドレスを記入してください。
P55: クラスターノード5台目 | W55: クラスターノード6台目 | AD55: クラスターノード7台目 | AK55: クラスターノード8台目 | AR55: クラスターノード9台目
A57: 16 | B57: 共通 | G57: サブネットマスク | AY57: BMC用ネットワークのサブネットマスクを記入してください。
B59: 管理ノード
A60: # | B60: 項目名 | P60: 記入項目 | AY60: 説明
A61: 17 | B61: 管理VM用 ポートグル―プ | G61: ポートグル―プ名 | AY61: 管理ノード上の管理VMにBMCネットワークからアクセスするためのポートグル―プの名前を記入してください。 例：「MNG-ext」
A62: 18 | B62: ="ポートグループ"&CHAR(10)&"「"&P61&"」に割り当てるNICポート" -> ポートグループ 「」に割り当てるNICポート | P62: 管理ノード | AY62: 管理ノード上の管理VM用ポートグル―プに割り当てる1G NICポートを選択してください。 1G NICポートの位置とvmnicの関係は、シート「NICポート対応表」を参照してください。
...

Sheet A
B2: 【共通項目のIPアドレス】
B3: COMMON_NW | C3: 設定値
B4: NTPサーバ
B6: DNSサーバのIPアドレス】
B7: COMMON_DNS | C7: プライマリ | D7: セカンダリ
B8: IPアドレス
B11: 【BMCのIPアドレス】
B12: BMC_NW | C12: クラスタノード1 | D12: クラスタノード2 | E12: クラスタノード3 | F12: クラスタノード4 | G12: クラスタノード5 | H12: クラスタノード6 | I12: クラスタノード7 | J12: クラスタノード8 | K12: クラスタノード9 | L12: 管理ノード
B13: IPアドレス | C13: =ヒアリングシート_A!W54 -> 0 | D13: =ヒアリングシート_A!AD54 -> 0 | E13: =ヒアリングシート_A!AK54 -> 0 | F13: =ヒアリングシート_A!AR54 -> 0 | G13: =ヒアリングシート_A!P56 -> 0 | H13: =ヒアリングシート_A!W56 -> 0 | I13: =ヒアリングシート_A!AD56 -> 0 | J13: =ヒアリングシート_A!AK56 -> 0 | K13: =ヒアリングシート_A!AR56 -> 0 | L13: =ヒアリングシート_A!P54 -> 0
B14: サブネットマスク | C14: =ヒアリングシート_A!P57 -> 0
B17: 【BMCのアカウント】
B18: BMC_ACCOUNT | C18: クラスタノード1 | D18: クラスタノード2 | E18: クラスタノード3 | F18: クラスタノード4 | G18: クラスタノード5 | H18: クラスタノード6 | I18: クラスタノード7 | J18: クラスタノード8 | K18: クラスタノード9 | L18: 管理ノード
B19: ユーザ | C19: =ヒアリングシート_A!P95 -> 0 | L19: =ヒアリングシート_A!P92 -> 0
B20: パスワード | C20: =ヒアリングシート_A!P96 -> 0 | L20: =ヒアリングシート_A!P93 -> 0
B23: 【管理LANのIPアドレス】
B24: MGMT_NW | C24: クラスタノード1 | D24: クラスタノード2 | E24: クラスタノード3 | F24: クラスタノード4 | G24: クラスタノード5 | H24: クラスタノード6 | I24: クラスタノード7 | J24: クラスタノード8 | K24: クラスタノード9 | L24: 管理ノード
B25: FQDN | C25: =ヒアリングシート_A!W15 -> 0 | D25: =ヒアリングシート_A!AD15 -> 0 | E25: =ヒアリングシート_A!AK15 -> 0 | F25: =ヒアリングシート_A!AR15 -> 0 | G25: =ヒアリングシート_A!P17 -> 0 | H25: =ヒアリングシート_A!W17 -> 0 | I25: =ヒアリングシート_A!AD17 -> 0 | J25: =ヒアリングシート_A!AK17 -> 0 | K25: =ヒアリングシート_A!AR17 -> 0 | L25: =ヒアリングシート_A!P15 -> 0
B26: IPアドレス | C26: =ヒアリングシート_A!W19 -> 0 | D26: =ヒアリングシート_A!AD19 -> 0 | E26: =ヒアリングシート_A!AK19 -> 0 | F26: =ヒアリングシート_A!AR19 -> 0 | G26: =ヒアリングシート_A!P21 -> 0 | H26: =ヒアリングシート_A!W21 -> 0 | I26: =ヒアリングシート_A!AD21 -> 0 | J26: =ヒアリングシート_A!AK21 -> 0 | K26: =ヒアリングシート_A!AR21 -> 0 | L26: =ヒアリングシート_A!P19 -> 0
B27: サブネットマスク | C27: =ヒアリングシート_A!P22 -> 0
B28: ゲートウェイ | C28: =ヒアリングシート_A!P9 -> 0
B31: 【vSAN ネットワークのIPアドレス】
B32: VSAN_NW | C32: クラスタノード1 | D32: クラスタノード2 | E32: クラスタノード3 | F32: クラスタノード4 | G32: クラスタノード5 | H32: クラスタノード6 | I32: クラスタノード7 | J32: クラスタノード8 | K32: クラスタノード9
B33: IPアドレス | C33: =ヒアリングシート_A!W25 -> 0 | D33: =ヒアリングシート_A!AD25 -> 0 | E33: =ヒアリングシート_A!AK25 -> 0 | F33: =ヒアリングシート_A!AR25 -> 0 | G33: =ヒアリングシート_A!P27 -> 0 | H33: =ヒアリングシート_A!W27 -> 0 | I33: =ヒアリングシート_A!AD27 -> 0 | J33: =ヒアリングシート_A!AK27 -> 0 | K33: =ヒアリングシート_A!AR27 -> 0
B34: サブネットマスク | C34: =ヒアリングシート_A!P29 -> 0
B37: 【vMotion ネットワークのIPアドレス】
B38: VMOTION_NW | C38: クラスタノード1 | D38: クラスタノード2 | E38: クラスタノード3 | F38: クラスタノード4 | G38: クラスタノード5 | H38: クラスタノード6 | I38: クラスタノード7 | J38: クラスタノード8 | K38: クラスタノード9
B39: IPアドレス | C39: =ヒアリングシート_A!W33 -> 0 | D39: =ヒアリングシート_A!AD33 -> 0 | E39: =ヒアリングシート_A!AK33 -> 0 | F39: =ヒアリングシート_A!AR33 -> 0 | G39: =ヒアリングシート_A!P35 -> 0 | H39: =ヒアリングシート_A!W35 -> 0 | I39: =ヒアリングシート_A!AD35 -> 0 | J39: =ヒアリングシート_A!AK35 -> 0 | K39: =ヒアリングシート_A!AR35 -> 0
B40: サブネットマスク | C40: =ヒアリングシート_A!P37 -> 0
B43: 【Witness ネットワークのIPアドレス】
B44: WITNESS_NW | C44: クラスタノード1 | D44: クラスタノード2 | E44: クラスタノード3 | F44: クラスタノード4 | G44: クラスタノード5 | H44: クラスタノード6 | I44: クラスタノード7 | J44: クラスタノード8 | K44: クラスタノード9
B45: IPアドレス
B46: サブネットマスク
B49: 【ESXiのアカウント】
B50: ESXI_ACCOUNT | C50: クラスタノード1 | D50: クラスタノード2 | E50: クラスタノード3 | F50: クラスタノード4 | G50: クラスタノード5 | H50: クラスタノード6 | I50: クラスタノード7 | J50: クラスタノード8 | K50: クラスタノード9 | L50: 管理ノード
B51: ユーザ | C51: root | L51: root
B52: パスワード | C52: =ヒアリングシート_A!P94 -> 0 | L52: =ヒアリングシート_A!P91 -> 0
B55: 【管理ネットワークのポートグループ】
B56: PORTGROUP_MGMT | C56: クラスタノード1 | D56: クラスタノード2 | E56: クラスタノード3 | F56: クラスタノード4 | G56: クラスタノード5 | H56: クラスタノード6 | I56: クラスタノード7 | J56: クラスタノード8 | K56: クラスタノード9 | L56: 管理ノード
B57: ポートグループ名 | C57: Management Network
B58: スイッチ名 | C58: vSwitch0
...

Sheet 事前確認シート_B
A1: NEC Hyper Converged System 構築ツール | AK1: 記入者 | AS1: 版数
B2: ="ネットワーク・vSAN情報設定 事前確認シート(Bパターン)"&CHAR(10)&表紙!D27&"様" -> ネットワーク・vSAN情報設定 事前確認シート(Bパターン) <お客様名>様 | AK2: <ご記入ください> ※任意です | AS2: =表紙!D29 -> <版数>
B4: NEC Hyper Converged Systemのネットワーク(Bパターン)のシステム概要図は、以下の通りです。
C6: ＜システム概要図内の用語＞
D7: ・構築ツールマシン | K7: NEC Hyper Converged System 構築ツールを動作させるマシンです。
D8: ・クラスタノード | K8: vSANクラスタを構成するExpressサーバ群です。
D9: ・管理ノード | K9: クラスタノードを管理する、クラスタノードとは別のExpressサーバです。vCSA(vCenter Server Appliance)や管理VMを動作させます。
D10: ・管理用ネットワーク | K10: 管理ノードがクラスタノードを管理するための通信(VMKernel(管理))のやり取りを行うネットワークです。
D11: ・vSAN用ネットワーク | K11: クラスタノード間でvSANデータ通信(VMKernel(vSAN))のやり取りを行うネットワークです。通信速度は10Gbpsが必須です。
D12: ・vMotion用ネットワーク | K12: クラスタノード間でvMotionデータ通信（VMKernel(vMotion))のやり取りを行うネットワークです。
D13: ・BMC用ネットワーク | K13: BMC LANを利用して、ノードのメンテナンスするために利用するネットワークです。
D14: ・業務用ネットワーク | K14: クラスタノードで動作させる業務AP(業務VM)が通信を行うためのネットワークです。
C17: 【クラスタノード3台 + 管理ノード1台構成例】 Bパターン | AP17: ＜Bパターンのネットワーク概要＞
AP18: ・管理用とBMC用に同じネットワークを利用します。
AP19: ・構築ツールマシンは、管理/BMC用ネットワークに
AP20: アクセス可能な設定が必要です。
AP21: ・管理VMは、管理/BMC用ネットワークに接続されます。
AP22: ・各ネットワークにチーミングを設定します。
AP23: ・チーミングは冗長化を目的とし、
AP24: active-standby構成で設定します。
AP25: ・vSAN用ネットワークのactiveポートは、
AP26: 通信量が多いため、単独で利用します。
C44: ※vCSA(vCenter Server Appliance)、管理VMは、管理ノードに配置されます。
C45: ※業務用ネットワークの設定は、構築ツールの対象外です。

Sheet ヒアリングシート_B
A1: NEC Hyper Converged System 構築サービス | AK1: 記入者 | AS1: 版数
B2: ="ネットワーク・vSAN情報設定 ヒアリングシート(推奨設定B)"&CHAR(10)&表紙!D27&"様" -> ネットワーク・vSAN情報設定 ヒアリングシート(推奨設定B) <お客様名>様 | AK2: <ご記入ください> ※任意です | AS2: =表紙!D29 -> <版数>
B4: 薄い黄色で色抜きされた部分に、設定情報をご記入ください。
A6: 【事前確認項目の転記】
B7: ゲートウェイ・DNSサーバ・NTPサーバ
A8: # | B8: 項目名 | P8: ご記入項目 | AY8: 説明
A9: 1 | B9: 管理/BMCネットワークのデフォルトゲートウェイのIPアドレス | AY9: 管理/BMCネットワークのデフォルトゲートウェイのIPアドレスを記入してください。
A10: 2 | B10: DNSサーバのIPアドレス(プライマリ) | AY10: お客様のDNSサーバのIPアドレスを記入してください。 このIPアドレスは、管理用ネットワークから接続できる必要があります。 管理ノード、各クラスタノードの名前解決が正しく行えるように、構築を開始する前にDNSの設定をする必要があります。 記入がない場合、管理VMがDNSサーバになります。 管理VMがDNSサーバになる場合は、構築時にDNSの設定が行われます。
A11: 3 | B11: DNSサーバのIPアドレス(セカンダリ)
A12: 4 | B12: NTPサーバのIPアドレス | AY12: お客様のNTPサーバのIPアドレスを記入してください。 このIPアドレスは、管理/BMCネットワークから接続できる必要があります。 記入がない場合、管理VMがNTPサーバになります。
A14: 【管理用ネットワーク設定】
B15: 管理ノード・クラスタノード
A16: # | B16: 項目名 | P16: 記入項目 | AY16: 説明
A17: 5 | B17: ESXi (VMKernel: 管理) | G17: ホスト名 FQDN (IPアドレスに対応) | P17: 管理ノード | W17: クラスターノード1台目 | AD17: クラスターノード2台目 | AK17: クラスターノード3台目 | AR17: クラスターノード4台目 | AY17: 管理ノード、各クラスタノードの管理/BMCネットワークにおけるホスト名(FQDN)を記入してください。 次のIPアドレスに対応します。
P19: クラスターノード5台目 | W19: クラスターノード6台目 | AD19: クラスターノード7台目 | AK19: クラスターノード8台目 | AR19: クラスターノード9台目
A21: 6 | G21: IPアドレス (BMCと同セグメント必須) | P21: 管理ノード | W21: クラスターノード1台目 | AD21: クラスターノード2台目 | AK21: クラスターノード3台目 | AR21: クラスターノード4台目 | AY21: 管理ノード、各クラスタノードの管理/BMCネットワークにおけるIPアドレスを記入してください。
P23: クラスターノード5台目 | W23: クラスターノード6台目 | AD23: クラスターノード7台目 | AK23: クラスターノード8台目 | AR23: クラスターノード9台目
A25: 9 | B25: BMC | G25: IPアドレス (ESXiと同セグメント必須) | P25: 管理ノード | W25: クラスターノード1台目 | AD25: クラスターノード2台目 | AK25: クラスターノード3台目 | AR25: クラスターノード4台目 | AY25: 管理ノード、各クラスタノードのBMCの管理/BMC用ネットワークにおけるIPアドレスを記入してください。
P27: クラスターノード5台目 | W27: クラスターノード6台目 | AD27: クラスターノード7台目 | AK27: クラスターノード8台目 | AR27: クラスターノード9台目
A29: 10 | B29: 共通 | G29: サブネットマスク | AY29: 管理/BMC用ネットワークのサブネットマスクを記入してください。 例：「255.255.255.0」
B32: 管理ノード・クラスタノードのLANポート割当
A33: # | B33: 項目名 | P33: 記入項目 | AY33: 説明
A34: 11 | B34: ="ポートグループ"&CHAR(10)&"「"&B!C57&"」"&CHAR(10)&"に割り当てるLANポート" -> ポートグループ 「Management Network」 に割り当てるLANポート | P34: 管理ノード | W34: クラスターノード1台目 | AD34: クラスターノード2台目 | AK34: クラスターノード3台目 | AR34: クラスターノード4台目 | AY34: 管理ノード、各クラスタノードの管理/BMC用ネットワークに割り当てる1G NICポートを選択してください。 1G NICポートの位置とvmnicの関係は、シート「NICポート対応表」を参照してください。
P36: クラスターノード5台目 | W36: クラスターノード6台目 | AD36: クラスターノード7台目 | AK36: クラスターノード8台目 | AR36: クラスターノード9台目
A40: 【vSAN/vMotion用ネットワーク設定】
B41: 管理ノード・クラスタノード
A42: # | B42: 項目名 | P42: 記入項目 | AY42: 説明
A43: 12 | B43: ESXi (VMKernel: vSAN) | G43: IPアドレス | P43: 管理ノード | W43: クラスターノード1台目 | AD43: クラスターノード2台目 | AK43: クラスターノード3台目 | AR43: クラスターノード4台目 | AY43: 各クラスタノードのvSAN用ネットワークにおけるIPアドレスを記入してください。
P45: クラスターノード5台目 | W45: クラスターノード6台目 | AD45: クラスターノード7台目 | AK45: クラスターノード8台目 | AR45: クラスターノード9台目
A47: 13 | G47: ポートグループ名 | AY47: 各クラスタノードのvSAN用ネットワークのポートグル―プ名を記入してください。 例：「vSAN」
A48: 14 | G48: サブネットマスク | AY48: vSANネットワークのサブネットマスクを記入してください。 例：「255.255.255.0」
A49: 15 | G49: VLAN ID | AY49: vSANネットワークのVLAN IDを記入してください(タグVLANを使用する場合)。 例：「11」
A51: 16 | B51: ESXi (VMK: vMotion) | G51: IPアドレス | P51: 管理ノード | W51: クラスターノード1台目 | AD51: クラスターノード2台目 | AK51: クラスターノード3台目 | AR51: クラスターノード4台目 | AY51: 各クラスタノードのvMotion用ネットワークにおけるIPアドレスを記入してください。
P53: クラスターノード5台目 | W53: クラスターノード6台目 | AD53: クラスターノード7台目 | AK53: クラスターノード8台目 | AR53: クラスターノード9台目
A55: 17 | G55: ポートグループ名 | AY55: 各クラスタノードのvMotion用ネットワークのポートグル―プ名を記入してください。 例：「vMotion」
A56: 18 | G56: サブネットマスク | AY56: vMotionネットワークのサブネットマスクを記入してください。 例：「255.255.255.0」
A57: 19 | G57: VLAN ID | AY57: vMotionのVLAN IDを記入してください(タグVLANを使用する場合)。 例：「12」
A59: 20 | B59: ="ポートグループ"&CHAR(10)&"「"&P47&"」、「"&P55&"」"&CHAR(10)&"に割り当てるLANポート" -> ポートグループ 「」、「」 に割り当てるLANポート | P59: 管理ノード | W59: クラスターノード1台目 | AD59: クラスターノード2台目 | AK59: クラスターノード3台目 | AR59: クラスターノード4台目 | AY59: 各クラスタノードのvSAN/vMotion用ネットワークに割り当てる10G NICポートを選択してください。 10G NICポートの位置とvmnicの関係は、シート「NICポート対応表」を参照してください。
P61: クラスターノード5台目 | W61: クラスターノード6台目 | AD61: クラスターノード7台目 | AK61: クラスターノード8台目 | AR61: クラスターノード9台目
B64: 10Gスイッチ
...

Sheet B
B2: 【共通項目のIPアドレス】
B3: COMMON_NW | C3: 設定値
B4: NTPサーバ | C4: =ヒアリングシート_B!P12 -> 0
B6: DNSサーバのIPアドレス】
B7: COMMON_DNS | C7: プライマリ | D7: セカンダリ
B8: IPアドレス | C8: =ヒアリングシート_B!P10 -> 0 | D8: =ヒアリングシート_B!P11 -> 0
B11: 【BMCのIPアドレス】
B12: BMC_NW | C12: クラスタノード1 | D12: クラスタノード2 | E12: クラスタノード3 | F12: クラスタノード4 | G12: クラスタノード5 | H12: クラスタノード6 | I12: クラスタノード7 | J12: クラスタノード8 | K12: クラスタノード9 | L12: 管理ノード
B13: IPアドレス | C13: =ヒアリングシート_B!W26 -> 0 | D13: =ヒアリングシート_B!AD26 -> 0 | E13: =ヒアリングシート_B!AK26 -> 0 | F13: =ヒアリングシート_B!AR26 -> 0 | G13: =ヒアリングシート_B!P28 -> 0 | H13: =ヒアリングシート_B!W28 -> 0 | I13: =ヒアリングシート_B!AD28 -> 0 | J13: =ヒアリングシート_B!AK28 -> 0 | K13: =ヒアリングシート_B!AR28 -> 0 | L13: =ヒアリングシート_B!P26 -> 0
B14: サブネットマスク | C14: =ヒアリングシート_B!P29 -> 0
B17: 【BMCのアカウント】
B18: BMC_ACCOUNT | C18: クラスタノード1 | D18: クラスタノード2 | E18: クラスタノード3 | F18: クラスタノード4 | G18: クラスタノード5 | H18: クラスタノード6 | I18: クラスタノード7 | J18: クラスタノード8 | K18: クラスタノード9 | L18: 管理ノード
B19: ユーザ | C19: =ヒアリングシート_B!P96 -> 0 | L19: =ヒアリングシート_B!P93 -> 0
B20: パスワード | C20: =ヒアリングシート_B!P97 -> 0 | L20: =ヒアリングシート_B!P94 -> 0
B23: 【管理LANのIPアドレス】
B24: MGMT_NW | C24: クラスタノード1 | D24: クラスタノード2 | E24: クラスタノード3 | F24: クラスタノード4 | G24: クラスタノード5 | H24: クラスタノード6 | I24: クラスタノード7 | J24: クラスタノード8 | K24: クラスタノード9 | L24: 管理ノード
B25: FQDN | C25: =ヒアリングシート_B!W18 -> 0 | D25: =ヒアリングシート_B!AD18 -> 0 | E25: =ヒアリングシート_B!AK18 -> 0 | F25: =ヒアリングシート_B!AR18 -> 0 | G25: =ヒアリングシート_B!P20 -> 0 | H25: =ヒアリングシート_B!W20 -> 0 | I25: =ヒアリングシート_B!AD20 -> 0 | J25: =ヒアリングシート_B!AK20 -> 0 | K25: =ヒアリングシート_B!AR20 -> 0 | L25: =ヒアリングシート_B!P18 -> 0
B26: IPアドレス | C26: =ヒアリングシート_B!W22 -> 0 | D26: =ヒアリングシート_B!AD22 -> 0 | E26: =ヒアリングシート_B!AK22 -> 0 | F26: =ヒアリングシート_B!AR22 -> 0 | G26: =ヒアリングシート_B!P24 -> 0 | H26: =ヒアリングシート_B!W24 -> 0 | I26: =ヒアリングシート_B!AD24 -> 0 | J26: =ヒアリングシート_B!AK24 -> 0 | K26: =ヒアリングシート_B!AR24 -> 0 | L26: =ヒアリングシート_B!P22 -> 0
B27: サブネットマスク | C27: =ヒアリングシート_B!P29 -> 0
B28: ゲートウェイ | C28: =ヒアリングシート_B!P9 -> 0
B31: 【vSAN ネットワークのIPアドレス】
B32: VSAN_NW | C32: クラスタノード1 | D32: クラスタノード2 | E32: クラスタノード3 | F32: クラスタノード4 | G32: クラスタノード5 | H32: クラスタノード6 | I32: クラスタノード7 | J32: クラスタノード8 | K32: クラスタノード9
B33: IPアドレス | C33: =ヒアリングシート_B!W44 -> 0 | D33: =ヒアリングシート_B!AD44 -> 0 | E33: =ヒアリングシート_B!AK44 -> 0 | F33: =ヒアリングシート_B!AR44 -> 0 | G33: =ヒアリングシート_B!P46 -> 0 | H33: =ヒアリングシート_B!W46 -> 0 | I33: =ヒアリングシート_B!AD46 -> 0 | J33: =ヒアリングシート_B!AK46 -> 0 | K33: =ヒアリングシート_B!AR46 -> 0
B34: サブネットマスク | C34: =ヒアリングシート_B!P48 -> 0
B37: 【vMotion ネットワークのIPアドレス】
B38: VMOTION_NW | C38: クラスタノード1 | D38: クラスタノード2 | E38: クラスタノード3 | F38: クラスタノード4 | G38: クラスタノード5 | H38: クラスタノード6 | I38: クラスタノード7 | J38: クラスタノード8 | K38: クラスタノード9
B39: IPアドレス | C39: =ヒアリングシート_B!W52 -> 0 | D39: =ヒアリングシート_B!AD52 -> 0 | E39: =ヒアリングシート_B!AK52 -> 0 | F39: =ヒアリングシート_B!AR52 -> 0 | G39: =ヒアリングシート_B!P54 -> 0 | H39: =ヒアリングシート_B!W54 -> 0 | I39: =ヒアリングシート_B!AD54 -> 0 | J39: =ヒアリングシート_B!AK54 -> 0 | K39: =ヒアリングシート_B!AR54 -> 0
B40: サブネットマスク | C40: =ヒアリングシート_B!P56 -> 0
B43: 【Witness ネットワークのIPアドレス】
B44: WITNESS_NW | C44: クラスタノード1 | D44: クラスタノード2 | E44: クラスタノード3 | F44: クラスタノード4 | G44: クラスタノード5 | H44: クラスタノード6 | I44: クラスタノード7 | J44: クラスタノード8 | K44: クラスタノード9
B45: IPアドレス
B46: サブネットマスク
B49: 【ESXiのアカウント】
B50: ESXI_ACCOUNT | C50: クラスタノード1 | D50: クラスタノード2 | E50: クラスタノード3 | F50: クラスタノード4 | G50: クラスタノード5 | H50: クラスタノード6 | I50: クラスタノード7 | J50: クラスタノード8 | K50: クラスタノード9 | L50: 管理ノード
B51: ユーザ | C51: root | L51: root
B52: パスワード | C52: =ヒアリングシート_B!P95 -> 0 | L52: =ヒアリングシート_B!P92 -> 0
B55: 【管理ネットワークのポートグループ】
B56: PORTGROUP_MGMT | C56: クラスタノード1 | D56: クラスタノード2 | E56: クラスタノード3 | F56: クラスタノード4 | G56: クラスタノード5 | H56: クラスタノード6 | I56: クラスタノード7 | J56: クラスタノード8 | K56: クラスタノード9 | L56: 管理ノード
B57: ポートグループ名 | C57: Management Network
B58: スイッチ名 | C58: vSwitch0
...

Sheet 事前確認シート_C
A1: NEC Hyper Converged System 構築ツール | AK1: 記入者 | AS1: 版数
B2: ="ネットワーク・vSAN情報設定 事前確認シート(Cパターン)"&CHAR(10)&表紙!D27&"様" -> ネットワーク・vSAN情報設定 事前確認シート(Cパターン) <お客様名>様 | AK2: <ご記入ください> ※任意です | AS2: =表紙!D29 -> <版数>
B4: NEC Hyper Converged Systemのネットワーク(Cパターン)のシステム概要図は、以下の通りです。
C6: ＜システム概要図内の用語＞
D7: ・構築ツールマシン | K7: NEC Hyper Converged System 構築ツールを動作させるマシンです。
D8: ・クラスタノード | K8: vSANクラスタを構成するExpressサーバ群です。
D9: ・管理ノード | K9: クラスタノードを管理する、クラスタノードとは別のExpressサーバです。vCSA(vCenter Server Appliance)や管理VMを動作させます。
D10: ・Witness(VM) | K10: 2ノード構成vSANで、管理ノード上に動作必須の仮想マシン(VM)です。
D11: ・管理用ネットワーク | K11: 管理ノードがクラスタノードを管理するための通信(VMKernel(管理))のやり取りを行うネットワークです。
D12: ・vSAN用ネットワーク | K12: クラスタノード間でvSANデータ通信(VMKernel(vSAN))のやり取りを行うネットワークです。通信速度は10Gbpsが必須です。
D13: ・vMotion用ネットワーク | K13: クラスタノード間でvMotionデータ通信（VMKernel(vMotion))のやり取りを行うネットワークです。
D14: ・BMC用ネットワーク | K14: BMC LANを利用して、ノードのメンテナンスするために利用するネットワークです。
D15: ・Witnessネットワーク | K15: Witness(VM)がクラスタノードを管理、監視するための通信(VMKernel(管理、Witness))のやり取りを行うネットワークです。通信速度は1Gbpsになります。
D16: ・業務用ネットワーク | K16: クラスタノードで動作させる業務AP(業務VM)が通信を行うためのネットワークです。
C19: 【クラスタノード2台 + 管理ノード1台構成例】 Cパターン | AP19: ＜Cパターンのネットワーク概要＞
AP20: ・管理用とBMC用に同じネットワークを利用します。
AP21: ・構築ツールマシンは、管理/BMC用ネットワークに
AP22: アクセス可能な設定が必要です。
AP23: ・管理VMは、管理/BMC用ネットワークに接続されます。
AP24: ・管理/BMC用ネットワークとWitness用ネットワークは
AP25: 同じ物理結線上を使用しますが、それぞれに異なる
AP26: ネットワークアドレスのIPアドレスを設定します。
AP27: ・各ネットワークにチーミングを設定します。
AP28: ・チーミングは冗長化を目的とし、
AP29: active-standby構成で設定します。
AP30: ・vSAN用ネットワークのactiveポートは、
AP31: 通信量が多いため、単独で利用します。
C50: ※vCSA(vCenter Server Appliance)、管理VMは、管理ノードに配置されます。
C51: ※業務用ネットワークの設定は、構築ツールの対象外です。

Sheet ヒアリングシート_C
A1: NEC Hyper Converged System 構築サービス | AK1: 記入者 | AS1: 版数
B2: ="ネットワーク・vSAN情報設定 ヒアリングシート(推奨設定C)"&CHAR(10)&表紙!D27&"様" -> ネットワーク・vSAN情報設定 ヒアリングシート(推奨設定C) <お客様名>様 | AK2: <ご記入ください> ※任意です | AS2: =表紙!D29 -> <版数>
B4: 薄い黄色で色抜きされた部分に、設定情報をご記入ください。
A6: 【事前確認項目の転記】
B7: ゲートウェイ・DNSサーバ・NTPサーバ
A8: # | B8: 項目名 | P8: ご記入項目 | AY8: 説明
A9: 1 | B9: 管理/BMCネットワークのデフォルトゲートウェイのIPアドレス | AY9: 管理/BMCネットワークのデフォルトゲートウェイのIPアドレスを記入してください。
A10: 2 | B10: DNSサーバのIPアドレス(プライマリ) | AY10: お客様のDNSサーバのIPアドレスを記入してください。 このIPアドレスは、管理用ネットワークから接続できる必要があります。 管理ノード、各クラスタノードの名前解決が正しく行えるように、構築を開始する前にDNSの設定をする必要があります。 記入がない場合、管理VMがDNSサーバになります。 管理VMがDNSサーバになる場合は、構築時にDNSの設定が行われます。
A11: 3 | B11: DNSサーバのIPアドレス(セカンダリ)
A12: 4 | B12: NTPサーバのIPアドレス | AY12: お客様のNTPサーバのIPアドレスを記入してください。 このIPアドレスは、管理/BMCネットワークから接続できる必要があります。 記入がない場合、管理VMがNTPサーバになります。
A14: 【管理用・Witnesネットワーク設定】
B15: 管理ノード・クラスタノード
A16: # | B16: 項目名 | P16: 記入項目 | AY16: 説明
A17: 5 | B17: ESXi (VMKernel: 管理) | G17: ホスト名 FQDN (IPアドレスに対応) | P17: 管理ノード | W17: クラスターノード1台目 | AD17: クラスターノード2台目 | AY17: 管理ノード、各クラスタノードの管理/BMCネットワークにおけるホスト名(FQDN)を記入してください。次のIPアドレスに対応します。
A19: 6 | G19: IPアドレス (BMCと同セグメント必須) | P19: 管理ノード | W19: クラスターノード1台目 | AD19: クラスターノード2台目 | AY19: 管理ノード、各クラスタノードの管理/BMCネットワークにおけるIPアドレスを記入してください。
A21: 7 | B21: ESXi (VMK: Witness Network) | G21: IPアドレス | P21: 管理ノード | W21: クラスターノード1台目 | AD21: クラスターノード2台目 | AY21: クラスタノードのWitnessネットワークにおけるIPアドレスを記入してください。
A23: 8 | G23: ポートグループ名 | AY23: クラスタノードのWitnessネットワークのポートグループ名を記入してください。
A24: 9 | B24: BMC | G24: IPアドレス (ESXiと同セグメント必須) | P24: 管理ノード | W24: クラスターノード1台目 | AD24: クラスターノード2台目 | AY24: 管理ノード、各クラスタノードのBMCの管理/BMC用ネットワークにおけるIPアドレスを記入してください。
A26: 10 | B26: 共通 | G26: 管理/BMC用ネットワークの サブネットマスク | AY26: 管理/BMC用ネットワークのサブネットマスクを記入してください。 例：「255.255.255.0」
A27: 11 | G27: Witnessネットワークの サブネットマスク | AY27: witnessの監視用ネットワークのサブネットマスクを記入してください。 例：「255.255.255.0」
B29: 管理ノード・クラスタノードのLANポート割当
A30: # | B30: 項目名 | P30: 記入項目 | AY30: 説明
A31: 12 | B31: ="ポートグループ「"&'C'!C57&"」、「"&P23&"」、「"&P36&"」に割り当てるLANポート" -> ポートグループ「Management Network」、「」、「」に割り当てるLANポート | P31: 管理ノード | W31: クラスターノード1台目 | AD31: クラスターノード2台目 | AY31: 管理ノード、各クラスタノードの管理/BMC用ネットワークに割り当てる1G NICポートを選択してください。1G NICポートの位置とvmnicの関係は、シート「NICポート対応表」を参照してください。
B34: 管理ノードのWitnessネットワークのポートグループ名
B35: 項目名 | P35: 記入項目 | AY35: 説明
A36: 13 | B36: 管理ノード | G36: ポートグループ(witness) | AY36: 管理ノードのWitnessネットワークのポートグループ名 を記入してください。
A38: 【vSAN/vMotion用ネットワーク設定】
B39: 管理ノード・クラスタノード
A40: # | B40: 項目名 | P40: 記入項目 | AY40: 説明
A41: 14 | B41: ESXi (VMKernel: vSAN) | G41: IPアドレス | P41: 管理ノード | W41: クラスターノード1台目 | AD41: クラスターノード2台目 | AY41: 各クラスタノードのvSAN用ネットワークにおけるIPアドレスを記入してください。
A43: 15 | G43: ポートグループ名 | AY43: 各クラスタノードのvSAN用ネットワークのポートグル―プ名を記入してください。 例：「vSAN」
A44: 16 | G44: サブネットマスク | AY44: vSANネットワークのサブネットマスクを記入してください。 例：「255.255.255.0」
A45: 17 | G45: VLAN ID | AY45: vSANネットワークのVLAN IDを記入してください(タグVLANを使用する場合)。 例：「11」
A47: 18 | B47: ESXi (VMK: vMotion) | G47: IPアドレス | P47: 管理ノード | W47: クラスターノード1台目 | AD47: クラスターノード2台目 | AY47: 各クラスタノードのvMotion用ネットワークにおけるIPアドレスを記入してください。
A49: 19 | G49: ポートグループ名 | AY49: 各クラスタノードのvMotion用ネットワークのポートグル―プ名を記入してください。 例：「vMotion」
A50: 20 | G50: サブネットマスク | AY50: vMotionネットワークのサブネットマスクを記入してください。 例：「255.255.255.0」
A51: 21 | G51: VLAN ID | AY51: vMotionのVLAN IDを記入してください(タグVLANを使用する場合)。 例：「12」
A53: 22 | B53: ="ポートグループ「"&P43&"」、「"&P49&"」に割り当てるLANポート" -> ポートグループ「」、「」に割り当てるLANポート | P53: 管理ノード | W53: クラスターノード1台目 | AD53: クラスターノード2台目 | AY53: 各クラスタノードのvSAN/vMotion用ネットワークに割り当てる10G NICポートを選択してください。 10G NICポートの位置とvmnicの関係は、シート「NICポート対応表」を参照してください。
A56: 【仮想マシン(VM)の設定】
B57: vCSA
...

Sheet C
B2: 【共通項目のIPアドレス】
B3: COMMON_NW | C3: 設定値
B4: NTPサーバ | C4: =ヒアリングシート_C!P12 -> 0
B6: DNSサーバのIPアドレス】
B7: COMMON_DNS | C7: プライマリ | D7: セカンダリ
B8: IPアドレス | C8: =ヒアリングシート_C!P10 -> 0 | D8: =ヒアリングシート_C!P11 -> 0
B11: 【BMCのIPアドレス】
B12: BMC_NW | C12: クラスタノード1 | D12: クラスタノード2 | E12: 管理ノード
B13: IPアドレス | C13: =ヒアリングシート_C!W25 -> 0 | D13: =ヒアリングシート_C!AD25 -> 0 | E13: =ヒアリングシート_C!P25 -> 0
B14: サブネットマスク | C14: =ヒアリングシート_C!P26 -> 0
B17: 【BMCのアカウント】
B18: BMC_ACCOUNT | C18: クラスタノード1 | D18: クラスタノード2 | E18: 管理ノード
B19: ユーザ | C19: =ヒアリングシート_C!P87 -> 0 | E19: =ヒアリングシート_C!P84 -> 0
B20: パスワード | C20: =ヒアリングシート_C!P88 -> 0 | E20: =ヒアリングシート_C!P85 -> 0
B23: 【管理LANのIPアドレス】
B24: MGMT_NW | C24: クラスタノード1 | D24: クラスタノード2 | E24: 管理ノード
B25: FQDN | C25: =ヒアリングシート_C!W18 -> 0 | D25: =ヒアリングシート_C!AD18 -> 0 | E25: =ヒアリングシート_C!P18 -> 0
B26: IPアドレス | C26: =ヒアリングシート_C!W20 -> 0 | D26: =ヒアリングシート_C!AD20 -> 0 | E26: =ヒアリングシート_C!P20 -> 0
B27: サブネットマスク | C27: =ヒアリングシート_C!P26 -> 0
B28: ゲートウェイ | C28: =ヒアリングシート_C!P9 -> 0
B31: 【vSAN ネットワークのIPアドレス】
B32: VSAN_NW | C32: クラスタノード1 | D32: クラスタノード2
B33: IPアドレス | C33: =ヒアリングシート_C!W42 -> 0 | D33: =ヒアリングシート_C!AD42 -> 0
B34: サブネットマスク | C34: =ヒアリングシート_C!P44 -> 0
B37: 【vMotion ネットワークのIPアドレス】
B38: VMOTION_NW | C38: クラスタノード1 | D38: クラスタノード2
B39: IPアドレス | C39: =ヒアリングシート_C!W48 -> 0 | D39: =ヒアリングシート_C!AD48 -> 0
B40: サブネットマスク | C40: =ヒアリングシート_C!P50 -> 0
B43: 【Witness ネットワークのIPアドレス】
B44: WITNESS_NW | C44: クラスタノード1 | D44: クラスタノード2 | E44: 管理ノード
B45: IPアドレス | C45: =ヒアリングシート_C!W22 -> 0 | D45: =ヒアリングシート_C!AD22 -> 0
B46: サブネットマスク | C46: =ヒアリングシート_C!P27 -> 0
B49: 【ESXiのアカウント】
B50: ESXI_ACCOUNT | C50: クラスタノード1 | D50: クラスタノード2 | E50: 管理ノード
B51: ユーザ | C51: root | E51: root
B52: パスワード | C52: =ヒアリングシート_C!P86 -> 0 | E52: =ヒアリングシート_C!P83 -> 0
B55: 【管理ネットワークのポートグループ】
B56: PORTGROUP_MGMT | C56: クラスタノード1 | D56: クラスタノード2 | E56: 管理ノード
B57: ポートグループ名 | C57: Management Network
B58: スイッチ名 | C58: vSwitch0
...

Sheet NICポート対応表(R120h 3rd-Gen)
A1: NEC Hyper Converged System 構築ツール
B2: ="NICポート対応表"&CHAR(10)&表紙!D27&"様" -> NICポート対応表 <お客様名>様
B4: 管理ノード用
B5: 装置本体名称 | C5: 標準搭載 | D5: LANメザニン／LOMカード | E5: PCI1/PCI2 | F5: 搭載図
B6: Express5800/R120h-1M | C6: マネジメント BMC (iLO) | D6: N8104-172(1Gbps 4ch) ・1G_#0_Port1 (1) <vmnic0> ・1G_#0_Port2 (2) <vmnic1> ・1G_#0_Port3 (3) <vmnic2> ・1G_#0_Port4 (4) <vmnic3> | E6: N8104-178(10Gbps 2ch) N8104-179(10Gbps 2ch) N8104-180(10Gbps 2ch) N8104-181(10Gbps 2ch) N8104-182(10Gbps 2ch) N8104-183(10Gbps 2ch) N8104-184(10Gbps 2ch) N8104-185(10Gbps 2ch SFP+) N8104-186(10Gbps 2ch SFP+) ・10G_#1_Port1 (0) <vmnic4> ・10G_#1_Port2 (1) <vmnic5> ・10G_#2_Port1 (0) <vmnic6> ・10G_#2_Port2 (1) <vmnic7>
B8: クラスタノード用
B9: 装置本体名称 | C9: 標準搭載 | D9: LANメザニン／LOMカード | E9: PCI1/PCI2 | F9: 搭載図
B10: Express5800/R120h-1M | C10: マネジメント BMC (iLO) | D10: N8104-172(1Gbps 4ch) ・1G_#0_Port1 (1) <vmnic0> ・1G_#0_Port2 (2) <vmnic1> ・1G_#0_Port3 (3) <vmnic2> ・1G_#0_Port4 (4) <vmnic3> | E10: N8104-178(10Gbps 2ch) N8104-179(10Gbps 2ch) N8104-180(10Gbps 2ch) N8104-181(10Gbps 2ch) N8104-182(10Gbps 2ch) N8104-183(10Gbps 2ch) N8104-184(10Gbps 2ch) N8104-185(10Gbps 2ch SFP+) N8104-186(10Gbps 2ch SFP+) ・10G_#1_Port1 (0) <vmnic4> ・10G_#1_Port2 (1) <vmnic5>
C11: マネジメント BMC (iLO) | D11: N8104-172(1Gbps 4ch) ・1G_#0_Port1 (1) <vmnic0> ・1G_#0_Port2 (2) <vmnic1> ・1G_#0_Port3 (3) <vmnic2> ・1G_#0_Port4 (4) <vmnic3> | E11: N8104-178(10Gbps 2ch) N8104-179(10Gbps 2ch) N8104-180(10Gbps 2ch) N8104-181(10Gbps 2ch) N8104-182(10Gbps 2ch) N8104-183(10Gbps 2ch) N8104-184(10Gbps 2ch) N8104-185(10Gbps 2ch SFP+) N8104-186(10Gbps 2ch SFP+) ・10G_#1_Port1 (0) <vmnic4> ・10G_#1_Port2 (1) <vmnic5> ・10G_#2_Port1 (0) <vmnic6> ・10G_#2_Port2 (1) <vmnic7>
B13: クラスタノード用
B14: 装置本体名称 | C14: 標準搭載 | D14: LANメザニン／LOMカード | E14: PCI1 | F14: 搭載図
B15: Express5800/R120h-2M | C15: マネジメント BMC (iLO) | D15: N8104-172(1Gbps 4ch) ・1G_#0_Port1 (1) <vmnic0> ・1G_#0_Port2 (2) <vmnic1> ・1G_#0_Port3 (3) <vmnic2> ・1G_#0_Port4 (4) <vmnic3> | E15: N8104-178(10Gbps 2ch) N8104-179(10Gbps 2ch) N8104-180(10Gbps 2ch) N8104-181(10Gbps 2ch) N8104-182(10Gbps 2ch) N8104-183(10Gbps 2ch) N8104-184(10Gbps 2ch) N8104-185(10Gbps 2ch SFP+) N8104-186(10Gbps 2ch SFP+) ・10G_#1_Port1(0) <vmnic4> ・10G_#1_Port2(1) <vmnic5>
